BEGIN:VCALENDAR
VERSION:2.0
PRODID:-//W1NE LOVE - ECPv6.15.14//NONSGML v1.0//EN
CALSCALE:GREGORIAN
METHOD:PUBLISH
X-ORIGINAL-URL:https://w1nelove.com/
X-WR-CALDESC:Events for W1NE LOVE
REFRESH-INTERVAL;VALUE=DURATION:PT1H
X-Robots-Tag:noindex
X-PUBLISHED-TTL:PT1H
BEGIN:VTIMEZONE
TZID:UTC
BEGIN:STANDARD
TZOFFSETFROM:+0000
TZOFFSETTO:+0000
TZNAME:UTC
DTSTART:20230101T000000
END:STANDARD
END:VTIMEZONE
BEGIN:VEVENT
DTSTART;VALUE=DATE:20240828
DTEND;VALUE=DATE:20240907
DTSTAMP:20260422T202313
CREATED:20240728T101937Z
LAST-MODIFIED:20240730T173211Z
UID:10000063-1724803200-1725667199@w1nelove.com
SUMMARY:The Rheingau Wine Festival
DESCRIPTION:Germany is renowned for Oktoberfest\, but its wine festivals are equally spectacular. Over several days\, more than 50 stalls offer 600 wines from the famed Rheingau region\, including sparkling wines\, sweet Rieslings\, robust dry wines\, and the underrated German Pinot Noir. It’s a perfect opportunity to explore German wines\, savor local cuisine\, and perhaps extend the experience with vineyard visits. A true celebration for wine enthusiasts!
URL:https://w1nelove.com/event/the-rheingau-wine-festival/
LOCATION:Frankfurt\, Germany\, Frankfurt\, Germany
ATTACH;FMTTYPE=image/webp:https://w1nelove.com/wp-content/uploads/2024/07/Rheingauer-Festival.webp
END:VEVENT
END:VCALENDAR